BEGIN:VCALENDAR
VERSION:2.0
METHOD:PUBLISH
PRODID:-//SD.NET RIM v1.0//DE
CALSCALE:GREGORIAN
X-WR-CALNAME:SD.NET RIM
X-WR-TIMEZONE:Europe/Berlin
BEGIN:VTIMEZONE
TZID:Europe/Berlin
X-LIC-LOCATION:Europe/Berlin
BEGIN:DAYLIGHT
TZOFFSETFROM:+0100
TZOFFSETTO:+0200
TZNAME:CEST
DTSTART:19700329T020000
RRULE:FREQ=YEARLY;BYMONTH=3;BYDAY=-1SU
END:DAYLIGHT
BEGIN:STANDARD
TZOFFSETFROM:+0200
TZOFFSETTO:+0100
TZNAME:CET
DTSTART:19701025T030000
RRULE:FREQ=YEARLY;BYMONTH=10;BYDAY=-1SU
END:STANDARD
END:VTIMEZONE
BEGIN:VEVENT
DTSTAMP:20210929T093839Z
DTSTART:20210830T160100Z
DTEND:20210830T174600Z
SUMMARY:Ausschuss für Stadtplanung und Infrastruktur
DESCRIPTION:Link zur Tagesordnung: https://enger.ratsinfomanagement.net/tops/?__=UGhVM0hpd2NXNFdFcExjZR5PQ9K8lcNU-S7p5R2YqPM
UID:2021081537
LOCATION:Städtische Realschule, Ringstraße 75, 32130 Enger, Aula
END:VEVENT

BEGIN:VEVENT
DTSTAMP:20210929T093839Z
DTSTART:20210831T160500Z
DTEND:20210831T170700Z
SUMMARY:Ausschuss für Schule, Jugend und Sport
DESCRIPTION:Link zur Tagesordnung: https://enger.ratsinfomanagement.net/tops/?__=UGhVM0hpd2NXNFdFcExjZce8_aXZUFkZOwdmK-6YF9s
UID:2021081538
LOCATION:Städtische Realschule, Ringstraße 75, 32130 Enger, Aula
END:VEVENT

BEGIN:VEVENT
DTSTAMP:20210929T093839Z
DTSTART:20210902T160000Z
DTEND:20210902T162700Z
SUMMARY:Ausschuss für öffentliche Sicherheit, Ordnung und Soziales
DESCRIPTION:Link zur Tagesordnung: https://enger.ratsinfomanagement.net/tops/?__=UGhVM0hpd2NXNFdFcExjZQfEFyJWWd-2EfEtU8PWawM
UID:2021091539
LOCATION:Städtische Realschule, Ringstraße 75, 32130 Enger, Aula
END:VEVENT

BEGIN:VEVENT
DTSTAMP:20210929T093839Z
DTSTART:20210906T160000Z
DTEND:20210906T162500Z
SUMMARY:Betriebsausschuss WBSE
DESCRIPTION:Link zur Tagesordnung: https://enger.ratsinfomanagement.net/tops/?__=UGhVM0hpd2NXNFdFcExjZeoKYfSqK3JMIstB59MkrAk
UID:2021091540
LOCATION:Städtische Realschule, Ringstraße 75, 32130 Enger, Aula
END:VEVENT

BEGIN:VEVENT
DTSTAMP:20210929T093839Z
DTSTART:20210907T160000Z
DTEND:20210907T180500Z
SUMMARY:Umweltausschuss
DESCRIPTION:Link zur Tagesordnung: https://enger.ratsinfomanagement.net/tops/?__=UGhVM0hpd2NXNFdFcExjZbIdgD8V1hyKWzub_foHJOQ
UID:2021091541
LOCATION:Städtische Realschule, Ringstraße 75, 32130 Enger, Aula
END:VEVENT

BEGIN:VEVENT
DTSTAMP:20210929T093839Z
DTSTART:20210909T160000Z
DTEND:20210909T164800Z
SUMMARY:Haupt- und Finanzausschuss
DESCRIPTION:Link zur Tagesordnung: https://enger.ratsinfomanagement.net/tops/?__=UGhVM0hpd2NXNFdFcExjZb49iQ-GESXzuDEONaTCYRo
UID:2021091542
LOCATION:Städtische Realschule, Ringstraße 75, 32130 Enger, Aula
END:VEVENT

BEGIN:VEVENT
DTSTAMP:20210929T093839Z
DTSTART:20210914T160000Z
DTEND:20210914T173000Z
SUMMARY:Ausschuss für Kultur, Tourismus und Stadtmarketing
DESCRIPTION:Link zur Tagesordnung: https://enger.ratsinfomanagement.net/tops/?__=UGhVM0hpd2NXNFdFcExjZSRnR24ylXe74guumT0S8eU
UID:2021091596
LOCATION:Städtische Realschule, Ringstraße 75, 32130 Enger, Aula
END:VEVENT

BEGIN:VEVENT
DTSTAMP:20210929T093839Z
DTSTART:20210916T160300Z
DTEND:20210916T190100Z
SUMMARY:Rat
DESCRIPTION:Link zur Tagesordnung: https://enger.ratsinfomanagement.net/tops/?__=UGhVM0hpd2NXNFdFcExjZaTGxwoZ0cImByMBqVXOSUM
UID:2021091543
LOCATION:Städtische Realschule, Ringstraße 75, 32130 Enger, Aula
END:VEVENT

BEGIN:VEVENT
DTSTAMP:20210929T093839Z
DTSTART:20211004T160000Z
DTEND:20211004T173000Z
SUMMARY:Ausschuss für Stadtplanung und Infrastruktur
DESCRIPTION:Link zur Tagesordnung: https://enger.ratsinfomanagement.net/tops/?__=UGhVM0hpd2NXNFdFcExjZdUfdMU2xMw2V1bNXo6s2YI
UID:2021101544
LOCATION:Rathaus, Bahnhofstraße 44, 32130 Enger, Ratssaal
END:VEVENT

BEGIN:VEVENT
DTSTAMP:20210929T093839Z
DTSTART:20211005T160000Z
DTEND:20211005T173000Z
SUMMARY:Ausschuss für Schule, Jugend und Sport
DESCRIPTION:Link zur Tagesordnung: https://enger.ratsinfomanagement.net/tops/?__=UGhVM0hpd2NXNFdFcExjZfvVivKyjkr2DHv39PXGG9U\n\nBemerkung:\nDie Sitzung fällt aus!!!
UID:2021101545
LOCATION:Rathaus, Bahnhofstraße 44, 32130 Enger, Ratssaal
END:VEVENT

BEGIN:VEVENT
DTSTAMP:20210929T093839Z
DTSTART:20211007T160000Z
DTEND:20211007T173000Z
SUMMARY:Ausschuss für öffentliche Sicherheit, Ordnung und Soziales
DESCRIPTION:Link zur Tagesordnung: https://enger.ratsinfomanagement.net/tops/?__=UGhVM0hpd2NXNFdFcExjZWpj8iXZNY7YsI6A1dvHSMw
UID:2021101546
LOCATION:Rathaus, Bahnhofstraße 44, 32130 Enger, Ratssaal
END:VEVENT

BEGIN:VEVENT
DTSTAMP:20210929T093839Z
DTSTART:20211025T160000Z
DTEND:20211025T173000Z
SUMMARY:Betriebsausschuss WBSE
DESCRIPTION:Link zur Tagesordnung: https://enger.ratsinfomanagement.net/tops/?__=UGhVM0hpd2NXNFdFcExjZc1gBy_VvK3alO77CYPyB80
UID:2021101547
LOCATION:Rathaus, Bahnhofstraße 44, 32130 Enger, Ratssaal
END:VEVENT

BEGIN:VEVENT
DTSTAMP:20210929T093839Z
DTSTART:20211026T160000Z
DTEND:20211026T173000Z
SUMMARY:Umweltausschuss
DESCRIPTION:Link zur Tagesordnung: https://enger.ratsinfomanagement.net/tops/?__=UGhVM0hpd2NXNFdFcExjZa1Yr6Jr5P8p_mKbYf7sgOo
UID:2021101548
LOCATION:Rathaus, Bahnhofstraße 44, 32130 Enger, Ratssaal
END:VEVENT

BEGIN:VEVENT
DTSTAMP:20210929T093839Z
DTSTART:20211028T160000Z
DTEND:20211028T173000Z
SUMMARY:Haupt- und Finanzausschuss
DESCRIPTION:Link zur Tagesordnung: https://enger.ratsinfomanagement.net/tops/?__=UGhVM0hpd2NXNFdFcExjZfOWi-inyBnU33DBREbg1DE
UID:2021101549
LOCATION:Rathaus, Bahnhofstraße 44, 32130 Enger, Ratssaal
END:VEVENT

BEGIN:VEVENT
DTSTAMP:20210929T093839Z
DTSTART:20211104T170000Z
DTEND:20211104T183000Z
SUMMARY:Rat
DESCRIPTION:Link zur Tagesordnung: https://enger.ratsinfomanagement.net/tops/?__=UGhVM0hpd2NXNFdFcExjZe-Ib83v27VRnyIZy3eqi9k
UID:2021111550
LOCATION:Städtische Realschule, Ringstraße 75, 32130 Enger, Aula
END:VEVENT

BEGIN:VEVENT
DTSTAMP:20210929T093839Z
DTSTART:20211122T170000Z
DTEND:20211122T183000Z
SUMMARY:Betriebsausschuss WBSE
DESCRIPTION:Link zur Tagesordnung: https://enger.ratsinfomanagement.net/tops/?__=UGhVM0hpd2NXNFdFcExjZcTOH66qBbI1WlpvUc9z5pg
UID:2021111551
LOCATION:Rathaus, Bahnhofstraße 44, 32130 Enger, Ratssaal
END:VEVENT

END:VCALENDAR